BEGIN:VCALENDAR
VERSION:2.0
PRODID:-//Dementia Spotlight Foundation - ECPv6.15.15//NONSGML v1.0//EN
CALSCALE:GREGORIAN
METHOD:PUBLISH
X-WR-CALNAME:Dementia Spotlight Foundation
X-ORIGINAL-URL:https://dementiaspotlightfoundation.org
X-WR-CALDESC:Events for Dementia Spotlight Foundation
REFRESH-INTERVAL;VALUE=DURATION:PT1H
X-Robots-Tag:noindex
X-PUBLISHED-TTL:PT1H
BEGIN:VTIMEZONE
TZID:UTC
BEGIN:STANDARD
TZOFFSETFROM:+0000
TZOFFSETTO:+0000
TZNAME:UTC
DTSTART:20220101T000000
END:STANDARD
END:VTIMEZONE
BEGIN:VEVENT
DTSTART;TZID=UTC:20230602T133000
DTEND;TZID=UTC:20230602T153000
DTSTAMP:20260420T042618
CREATED:20230601T155500Z
LAST-MODIFIED:20230612T135235Z
UID:10000002-1685712600-1685719800@dementiaspotlightfoundation.org
SUMMARY:Connection Café (Memory Cafe)
DESCRIPTION:Join Us For Our Connection Café!\nPresented by Dementia Spotlight Foundation and Senior Service of North Fulton  \nWho: Those Living w/ Dementia & Their Care Partners \nWhen: First & Third Friday Of The Month \nTime: 1:30-3:30 PM \nWhere: Roswell Senior Center \n1250 Warsaw Rd\, Roswell\, GA 30076 \nFor More Info or to Sponsor A Cafe\, Contact Alyss Amster: 678-332-1711 or alyss@dementiaspotlightfoundation.org
URL:https://dementiaspotlightfoundation.org/event/connection-cafe-memory-cafe/2023-06-02/
LOCATION:Roswell Senior Center\, 1250 Warsaw Rd\, Roswell\, GA\, 30076\, United States
CATEGORIES:Connection Café
ATTACH;FMTTYPE=image/png:https://dementiaspotlightfoundation.org/wp-content/uploads/2023/06/2.png
ORGANIZER;CN="Alyss Amster":MAILTO:alyss@dementiaspotlightfoundation.org
END:VEVENT
BEGIN:VEVENT
DTSTART;TZID=UTC:20230601T180000
DTEND;TZID=UTC:20230601T193000
DTSTAMP:20260420T042618
CREATED:20230602T001842Z
LAST-MODIFIED:20230612T135811Z
UID:10000318-1685642400-1685647800@dementiaspotlightfoundation.org
SUMMARY:Let's Talk Dementia: A Summer Cocktail Series
DESCRIPTION:Join us at Town Square Sandy Springs on June 6th at 6pm for an engaging and enlightening evening as we delve into the real-life experiences of caring for a person living with dementia. As part of our Summer Cocktail Series\, this event promises refreshing cocktails\, delectable summer bites\, and invaluable insights into navigating the journey of dementia care. \n🍹🍴 Sip and Savor: \nIndulge in a delightful selection of delicious cocktails and savor mouthwatering summer bites\, specially curated to enhance your evening of discovery and connection. \n🗓️ Mark Your Calendar: \nDate: June 6th \nTime: 6:00pm \nLocation: Town Square\, 8601 Dunwoody Place\, Ste. 130\, Sandy Springs\, GA 30350 \n🎟️ Get Your FREE Tickets Now: \nSecure your spot for this must-attend event by visiting tinyurl.com/dementiasummerseries. Don’t miss out on this unique opportunity to gain valuable insights\, connect with fellow care partners\, and enjoy a memorable summer evening. \n💡 JUNE 6 – Celebrations\, Vacations & Continuing Traditions: \nIn this session\, we’ll explore the importance of preparing to travel with someone living with dementia. Trudie Robinson\, a dedicated care partner and experienced independent travel agent\, will join forces with Mary Caldwell and Amanda Jackson from The Key to lead an insightful discussion. Learn practical tips\, gain expert advice\, and discover how to create meaningful travel experiences while ensuring the comfort and well-being of your loved one. \n✨ Join the Conversation: \nBe part of a supportive community\, where experiences are shared\, questions are answered\, and connections are forged. Together\, we can navigate the challenges of dementia care and empower each other with knowledge and understanding. \nDon’t miss this incredible opportunity to enhance your caregiving journey. Reserve your FREE tickets now at tinyurl.com/dementiasummerseries. We look forward to welcoming you to the Let’s Talk Dementia: A Summer Cocktail Series at Town Square Sandy Springs.
URL:https://dementiaspotlightfoundation.org/event/lets-talk-dementia-a-summer-cocktail-series/
LOCATION:Town Square\, 601 Dunwoody Place\, Ste. 130\, Sandy Springs\, GA\, 30350\, United States
CATEGORIES:Education Event
ATTACH;FMTTYPE=image/jpeg:https://dementiaspotlightfoundation.org/wp-content/uploads/2023/06/delicious-blood-orange-cocktail-on-light-blue-background-.jpg
ORGANIZER;CN="Alyss Amster":MAILTO:alyss@dementiaspotlightfoundation.org
END:VEVENT
END:VCALENDAR