BEGIN:VCALENDAR
VERSION:2.0
PRODID:-//Dementia Spotlight Foundation - ECPv6.15.15//NONSGML v1.0//EN
CALSCALE:GREGORIAN
METHOD:PUBLISH
X-ORIGINAL-URL:https://dementiaspotlightfoundation.org
X-WR-CALDESC:Events for Dementia Spotlight Foundation
REFRESH-INTERVAL;VALUE=DURATION:PT1H
X-Robots-Tag:noindex
X-PUBLISHED-TTL:PT1H
BEGIN:VTIMEZONE
TZID:UTC
BEGIN:STANDARD
TZOFFSETFROM:+0000
TZOFFSETTO:+0000
TZNAME:UTC
DTSTART:20280101T000000
END:STANDARD
END:VTIMEZONE
BEGIN:VEVENT
DTSTART;TZID=UTC:20290510T133000
DTEND;TZID=UTC:20290510T153000
DTSTAMP:20260419T223059
CREATED:20240715T201417Z
LAST-MODIFIED:20240715T201417Z
UID:10000926-1873114200-1873121400@dementiaspotlightfoundation.org
SUMMARY:Connection Café (Memory Cafe) - Alpharetta
DESCRIPTION:Join Us For Our Connection Café!\nPresented by Dementia Spotlight Foundation and Senior Service of North Fulton  \nWho: Those Living w/ Dementia & Their Care Partners \nWhen: Every Second & Fourth Thursday Of The Month \nTime: 1:30-3:30 PM \nWhere: Alpharetta | Crabapple Senior Center \n12624 Broadwell Rd\, Alpharetta\, GA 30004 \nFor More Info or to Sponsor A Cafe\, Contact Alyss Amster: 678-332-1711 or
URL:https://dementiaspotlightfoundation.org/event/connection-cafe-memory-cafe-alpharetta-3/2029-05-10/
LOCATION:Alpharetta | Crabapple Senior Center\, 12624 Broadwell Rd\, Alpharetta\, GA\, 30004\, United States
CATEGORIES:Connection Café
ATTACH;FMTTYPE=image/jpeg:https://dementiaspotlightfoundation.org/wp-content/uploads/2024/03/elderly-people-playing-board-game.jpg
ORGANIZER;CN="Alyss Amster":MAILTO:alyss@dementiaspotlightfoundation.org
END:VEVENT
BEGIN:VEVENT
DTSTART;TZID=UTC:20290524T133000
DTEND;TZID=UTC:20290524T153000
DTSTAMP:20260419T223059
CREATED:20240715T201417Z
LAST-MODIFIED:20240715T201417Z
UID:10000927-1874323800-1874331000@dementiaspotlightfoundation.org
SUMMARY:Connection Café (Memory Cafe) - Alpharetta
DESCRIPTION:Join Us For Our Connection Café!\nPresented by Dementia Spotlight Foundation and Senior Service of North Fulton  \nWho: Those Living w/ Dementia & Their Care Partners \nWhen: Every Second & Fourth Thursday Of The Month \nTime: 1:30-3:30 PM \nWhere: Alpharetta | Crabapple Senior Center \n12624 Broadwell Rd\, Alpharetta\, GA 30004 \nFor More Info or to Sponsor A Cafe\, Contact Alyss Amster: 678-332-1711 or
URL:https://dementiaspotlightfoundation.org/event/connection-cafe-memory-cafe-alpharetta-3/2029-05-24/
LOCATION:Alpharetta | Crabapple Senior Center\, 12624 Broadwell Rd\, Alpharetta\, GA\, 30004\, United States
CATEGORIES:Connection Café
ATTACH;FMTTYPE=image/jpeg:https://dementiaspotlightfoundation.org/wp-content/uploads/2024/03/elderly-people-playing-board-game.jpg
ORGANIZER;CN="Alyss Amster":MAILTO:alyss@dementiaspotlightfoundation.org
END:VEVENT
BEGIN:VEVENT
DTSTART;TZID=UTC:20290614T133000
DTEND;TZID=UTC:20290614T153000
DTSTAMP:20260419T223059
CREATED:20240715T201417Z
LAST-MODIFIED:20240715T201417Z
UID:10000928-1876138200-1876145400@dementiaspotlightfoundation.org
SUMMARY:Connection Café (Memory Cafe) - Alpharetta
DESCRIPTION:Join Us For Our Connection Café!\nPresented by Dementia Spotlight Foundation and Senior Service of North Fulton  \nWho: Those Living w/ Dementia & Their Care Partners \nWhen: Every Second & Fourth Thursday Of The Month \nTime: 1:30-3:30 PM \nWhere: Alpharetta | Crabapple Senior Center \n12624 Broadwell Rd\, Alpharetta\, GA 30004 \nFor More Info or to Sponsor A Cafe\, Contact Alyss Amster: 678-332-1711 or
URL:https://dementiaspotlightfoundation.org/event/connection-cafe-memory-cafe-alpharetta-3/2029-06-14/
LOCATION:Alpharetta | Crabapple Senior Center\, 12624 Broadwell Rd\, Alpharetta\, GA\, 30004\, United States
CATEGORIES:Connection Café
ATTACH;FMTTYPE=image/jpeg:https://dementiaspotlightfoundation.org/wp-content/uploads/2024/03/elderly-people-playing-board-game.jpg
ORGANIZER;CN="Alyss Amster":MAILTO:alyss@dementiaspotlightfoundation.org
END:VEVENT
BEGIN:VEVENT
DTSTART;TZID=UTC:20290628T133000
DTEND;TZID=UTC:20290628T153000
DTSTAMP:20260419T223059
CREATED:20240715T201417Z
LAST-MODIFIED:20240715T201417Z
UID:10000929-1877347800-1877355000@dementiaspotlightfoundation.org
SUMMARY:Connection Café (Memory Cafe) - Alpharetta
DESCRIPTION:Join Us For Our Connection Café!\nPresented by Dementia Spotlight Foundation and Senior Service of North Fulton  \nWho: Those Living w/ Dementia & Their Care Partners \nWhen: Every Second & Fourth Thursday Of The Month \nTime: 1:30-3:30 PM \nWhere: Alpharetta | Crabapple Senior Center \n12624 Broadwell Rd\, Alpharetta\, GA 30004 \nFor More Info or to Sponsor A Cafe\, Contact Alyss Amster: 678-332-1711 or
URL:https://dementiaspotlightfoundation.org/event/connection-cafe-memory-cafe-alpharetta-3/2029-06-28/
LOCATION:Alpharetta | Crabapple Senior Center\, 12624 Broadwell Rd\, Alpharetta\, GA\, 30004\, United States
CATEGORIES:Connection Café
ATTACH;FMTTYPE=image/jpeg:https://dementiaspotlightfoundation.org/wp-content/uploads/2024/03/elderly-people-playing-board-game.jpg
ORGANIZER;CN="Alyss Amster":MAILTO:alyss@dementiaspotlightfoundation.org
END:VEVENT
BEGIN:VEVENT
DTSTART;TZID=UTC:20290712T133000
DTEND;TZID=UTC:20290712T153000
DTSTAMP:20260419T223059
CREATED:20240715T201417Z
LAST-MODIFIED:20240715T201417Z
UID:10000930-1878557400-1878564600@dementiaspotlightfoundation.org
SUMMARY:Connection Café (Memory Cafe) - Alpharetta
DESCRIPTION:Join Us For Our Connection Café!\nPresented by Dementia Spotlight Foundation and Senior Service of North Fulton  \nWho: Those Living w/ Dementia & Their Care Partners \nWhen: Every Second & Fourth Thursday Of The Month \nTime: 1:30-3:30 PM \nWhere: Alpharetta | Crabapple Senior Center \n12624 Broadwell Rd\, Alpharetta\, GA 30004 \nFor More Info or to Sponsor A Cafe\, Contact Alyss Amster: 678-332-1711 or
URL:https://dementiaspotlightfoundation.org/event/connection-cafe-memory-cafe-alpharetta-3/2029-07-12/
LOCATION:Alpharetta | Crabapple Senior Center\, 12624 Broadwell Rd\, Alpharetta\, GA\, 30004\, United States
CATEGORIES:Connection Café
ATTACH;FMTTYPE=image/jpeg:https://dementiaspotlightfoundation.org/wp-content/uploads/2024/03/elderly-people-playing-board-game.jpg
ORGANIZER;CN="Alyss Amster":MAILTO:alyss@dementiaspotlightfoundation.org
END:VEVENT
BEGIN:VEVENT
DTSTART;TZID=UTC:20290726T133000
DTEND;TZID=UTC:20290726T153000
DTSTAMP:20260419T223059
CREATED:20240715T201417Z
LAST-MODIFIED:20240715T201417Z
UID:10001501-1879767000-1879774200@dementiaspotlightfoundation.org
SUMMARY:Connection Café (Memory Cafe) - Alpharetta
DESCRIPTION:Join Us For Our Connection Café!\nPresented by Dementia Spotlight Foundation and Senior Service of North Fulton  \nWho: Those Living w/ Dementia & Their Care Partners \nWhen: Every Second & Fourth Thursday Of The Month \nTime: 1:30-3:30 PM \nWhere: Alpharetta | Crabapple Senior Center \n12624 Broadwell Rd\, Alpharetta\, GA 30004 \nFor More Info or to Sponsor A Cafe\, Contact Alyss Amster: 678-332-1711 or
URL:https://dementiaspotlightfoundation.org/event/connection-cafe-memory-cafe-alpharetta-3/2029-07-26/
LOCATION:Alpharetta | Crabapple Senior Center\, 12624 Broadwell Rd\, Alpharetta\, GA\, 30004\, United States
CATEGORIES:Connection Café
ATTACH;FMTTYPE=image/jpeg:https://dementiaspotlightfoundation.org/wp-content/uploads/2024/03/elderly-people-playing-board-game.jpg
ORGANIZER;CN="Alyss Amster":MAILTO:alyss@dementiaspotlightfoundation.org
END:VEVENT
BEGIN:VEVENT
DTSTART;TZID=UTC:20290809T133000
DTEND;TZID=UTC:20290809T153000
DTSTAMP:20260419T223059
CREATED:20240715T201417Z
LAST-MODIFIED:20240715T201417Z
UID:10001502-1880976600-1880983800@dementiaspotlightfoundation.org
SUMMARY:Connection Café (Memory Cafe) - Alpharetta
DESCRIPTION:Join Us For Our Connection Café!\nPresented by Dementia Spotlight Foundation and Senior Service of North Fulton  \nWho: Those Living w/ Dementia & Their Care Partners \nWhen: Every Second & Fourth Thursday Of The Month \nTime: 1:30-3:30 PM \nWhere: Alpharetta | Crabapple Senior Center \n12624 Broadwell Rd\, Alpharetta\, GA 30004 \nFor More Info or to Sponsor A Cafe\, Contact Alyss Amster: 678-332-1711 or
URL:https://dementiaspotlightfoundation.org/event/connection-cafe-memory-cafe-alpharetta-3/2029-08-09/
LOCATION:Alpharetta | Crabapple Senior Center\, 12624 Broadwell Rd\, Alpharetta\, GA\, 30004\, United States
CATEGORIES:Connection Café
ATTACH;FMTTYPE=image/jpeg:https://dementiaspotlightfoundation.org/wp-content/uploads/2024/03/elderly-people-playing-board-game.jpg
ORGANIZER;CN="Alyss Amster":MAILTO:alyss@dementiaspotlightfoundation.org
END:VEVENT
BEGIN:VEVENT
DTSTART;TZID=UTC:20290823T133000
DTEND;TZID=UTC:20290823T153000
DTSTAMP:20260419T223059
CREATED:20240715T201417Z
LAST-MODIFIED:20240715T201417Z
UID:10001503-1882186200-1882193400@dementiaspotlightfoundation.org
SUMMARY:Connection Café (Memory Cafe) - Alpharetta
DESCRIPTION:Join Us For Our Connection Café!\nPresented by Dementia Spotlight Foundation and Senior Service of North Fulton  \nWho: Those Living w/ Dementia & Their Care Partners \nWhen: Every Second & Fourth Thursday Of The Month \nTime: 1:30-3:30 PM \nWhere: Alpharetta | Crabapple Senior Center \n12624 Broadwell Rd\, Alpharetta\, GA 30004 \nFor More Info or to Sponsor A Cafe\, Contact Alyss Amster: 678-332-1711 or
URL:https://dementiaspotlightfoundation.org/event/connection-cafe-memory-cafe-alpharetta-3/2029-08-23/
LOCATION:Alpharetta | Crabapple Senior Center\, 12624 Broadwell Rd\, Alpharetta\, GA\, 30004\, United States
CATEGORIES:Connection Café
ATTACH;FMTTYPE=image/jpeg:https://dementiaspotlightfoundation.org/wp-content/uploads/2024/03/elderly-people-playing-board-game.jpg
ORGANIZER;CN="Alyss Amster":MAILTO:alyss@dementiaspotlightfoundation.org
END:VEVENT
BEGIN:VEVENT
DTSTART;TZID=UTC:20290913T133000
DTEND;TZID=UTC:20290913T153000
DTSTAMP:20260419T223059
CREATED:20240715T201417Z
LAST-MODIFIED:20240715T201417Z
UID:10001504-1884000600-1884007800@dementiaspotlightfoundation.org
SUMMARY:Connection Café (Memory Cafe) - Alpharetta
DESCRIPTION:Join Us For Our Connection Café!\nPresented by Dementia Spotlight Foundation and Senior Service of North Fulton  \nWho: Those Living w/ Dementia & Their Care Partners \nWhen: Every Second & Fourth Thursday Of The Month \nTime: 1:30-3:30 PM \nWhere: Alpharetta | Crabapple Senior Center \n12624 Broadwell Rd\, Alpharetta\, GA 30004 \nFor More Info or to Sponsor A Cafe\, Contact Alyss Amster: 678-332-1711 or
URL:https://dementiaspotlightfoundation.org/event/connection-cafe-memory-cafe-alpharetta-3/2029-09-13/
LOCATION:Alpharetta | Crabapple Senior Center\, 12624 Broadwell Rd\, Alpharetta\, GA\, 30004\, United States
CATEGORIES:Connection Café
ATTACH;FMTTYPE=image/jpeg:https://dementiaspotlightfoundation.org/wp-content/uploads/2024/03/elderly-people-playing-board-game.jpg
ORGANIZER;CN="Alyss Amster":MAILTO:alyss@dementiaspotlightfoundation.org
END:VEVENT
BEGIN:VEVENT
DTSTART;TZID=UTC:20290927T133000
DTEND;TZID=UTC:20290927T153000
DTSTAMP:20260419T223059
CREATED:20240715T201417Z
LAST-MODIFIED:20240715T201417Z
UID:10001505-1885210200-1885217400@dementiaspotlightfoundation.org
SUMMARY:Connection Café (Memory Cafe) - Alpharetta
DESCRIPTION:Join Us For Our Connection Café!\nPresented by Dementia Spotlight Foundation and Senior Service of North Fulton  \nWho: Those Living w/ Dementia & Their Care Partners \nWhen: Every Second & Fourth Thursday Of The Month \nTime: 1:30-3:30 PM \nWhere: Alpharetta | Crabapple Senior Center \n12624 Broadwell Rd\, Alpharetta\, GA 30004 \nFor More Info or to Sponsor A Cafe\, Contact Alyss Amster: 678-332-1711 or
URL:https://dementiaspotlightfoundation.org/event/connection-cafe-memory-cafe-alpharetta-3/2029-09-27/
LOCATION:Alpharetta | Crabapple Senior Center\, 12624 Broadwell Rd\, Alpharetta\, GA\, 30004\, United States
CATEGORIES:Connection Café
ATTACH;FMTTYPE=image/jpeg:https://dementiaspotlightfoundation.org/wp-content/uploads/2024/03/elderly-people-playing-board-game.jpg
ORGANIZER;CN="Alyss Amster":MAILTO:alyss@dementiaspotlightfoundation.org
END:VEVENT
BEGIN:VEVENT
DTSTART;TZID=UTC:20291011T133000
DTEND;TZID=UTC:20291011T153000
DTSTAMP:20260419T223059
CREATED:20240715T201417Z
LAST-MODIFIED:20240715T201417Z
UID:10001506-1886419800-1886427000@dementiaspotlightfoundation.org
SUMMARY:Connection Café (Memory Cafe) - Alpharetta
DESCRIPTION:Join Us For Our Connection Café!\nPresented by Dementia Spotlight Foundation and Senior Service of North Fulton  \nWho: Those Living w/ Dementia & Their Care Partners \nWhen: Every Second & Fourth Thursday Of The Month \nTime: 1:30-3:30 PM \nWhere: Alpharetta | Crabapple Senior Center \n12624 Broadwell Rd\, Alpharetta\, GA 30004 \nFor More Info or to Sponsor A Cafe\, Contact Alyss Amster: 678-332-1711 or
URL:https://dementiaspotlightfoundation.org/event/connection-cafe-memory-cafe-alpharetta-3/2029-10-11/
LOCATION:Alpharetta | Crabapple Senior Center\, 12624 Broadwell Rd\, Alpharetta\, GA\, 30004\, United States
CATEGORIES:Connection Café
ATTACH;FMTTYPE=image/jpeg:https://dementiaspotlightfoundation.org/wp-content/uploads/2024/03/elderly-people-playing-board-game.jpg
ORGANIZER;CN="Alyss Amster":MAILTO:alyss@dementiaspotlightfoundation.org
END:VEVENT
BEGIN:VEVENT
DTSTART;TZID=UTC:20291025T133000
DTEND;TZID=UTC:20291025T153000
DTSTAMP:20260419T223059
CREATED:20240715T201417Z
LAST-MODIFIED:20240715T201417Z
UID:10001507-1887629400-1887636600@dementiaspotlightfoundation.org
SUMMARY:Connection Café (Memory Cafe) - Alpharetta
DESCRIPTION:Join Us For Our Connection Café!\nPresented by Dementia Spotlight Foundation and Senior Service of North Fulton  \nWho: Those Living w/ Dementia & Their Care Partners \nWhen: Every Second & Fourth Thursday Of The Month \nTime: 1:30-3:30 PM \nWhere: Alpharetta | Crabapple Senior Center \n12624 Broadwell Rd\, Alpharetta\, GA 30004 \nFor More Info or to Sponsor A Cafe\, Contact Alyss Amster: 678-332-1711 or
URL:https://dementiaspotlightfoundation.org/event/connection-cafe-memory-cafe-alpharetta-3/2029-10-25/
LOCATION:Alpharetta | Crabapple Senior Center\, 12624 Broadwell Rd\, Alpharetta\, GA\, 30004\, United States
CATEGORIES:Connection Café
ATTACH;FMTTYPE=image/jpeg:https://dementiaspotlightfoundation.org/wp-content/uploads/2024/03/elderly-people-playing-board-game.jpg
ORGANIZER;CN="Alyss Amster":MAILTO:alyss@dementiaspotlightfoundation.org
END:VEVENT
BEGIN:VEVENT
DTSTART;TZID=UTC:20291108T133000
DTEND;TZID=UTC:20291108T153000
DTSTAMP:20260419T223059
CREATED:20240715T201417Z
LAST-MODIFIED:20240715T201417Z
UID:10001508-1888839000-1888846200@dementiaspotlightfoundation.org
SUMMARY:Connection Café (Memory Cafe) - Alpharetta
DESCRIPTION:Join Us For Our Connection Café!\nPresented by Dementia Spotlight Foundation and Senior Service of North Fulton  \nWho: Those Living w/ Dementia & Their Care Partners \nWhen: Every Second & Fourth Thursday Of The Month \nTime: 1:30-3:30 PM \nWhere: Alpharetta | Crabapple Senior Center \n12624 Broadwell Rd\, Alpharetta\, GA 30004 \nFor More Info or to Sponsor A Cafe\, Contact Alyss Amster: 678-332-1711 or
URL:https://dementiaspotlightfoundation.org/event/connection-cafe-memory-cafe-alpharetta-3/2029-11-08/
LOCATION:Alpharetta | Crabapple Senior Center\, 12624 Broadwell Rd\, Alpharetta\, GA\, 30004\, United States
CATEGORIES:Connection Café
ATTACH;FMTTYPE=image/jpeg:https://dementiaspotlightfoundation.org/wp-content/uploads/2024/03/elderly-people-playing-board-game.jpg
ORGANIZER;CN="Alyss Amster":MAILTO:alyss@dementiaspotlightfoundation.org
END:VEVENT
BEGIN:VEVENT
DTSTART;TZID=UTC:20291122T133000
DTEND;TZID=UTC:20291122T153000
DTSTAMP:20260419T223059
CREATED:20240715T201417Z
LAST-MODIFIED:20240715T201417Z
UID:10001509-1890048600-1890055800@dementiaspotlightfoundation.org
SUMMARY:Connection Café (Memory Cafe) - Alpharetta
DESCRIPTION:Join Us For Our Connection Café!\nPresented by Dementia Spotlight Foundation and Senior Service of North Fulton  \nWho: Those Living w/ Dementia & Their Care Partners \nWhen: Every Second & Fourth Thursday Of The Month \nTime: 1:30-3:30 PM \nWhere: Alpharetta | Crabapple Senior Center \n12624 Broadwell Rd\, Alpharetta\, GA 30004 \nFor More Info or to Sponsor A Cafe\, Contact Alyss Amster: 678-332-1711 or
URL:https://dementiaspotlightfoundation.org/event/connection-cafe-memory-cafe-alpharetta-3/2029-11-22/
LOCATION:Alpharetta | Crabapple Senior Center\, 12624 Broadwell Rd\, Alpharetta\, GA\, 30004\, United States
CATEGORIES:Connection Café
ATTACH;FMTTYPE=image/jpeg:https://dementiaspotlightfoundation.org/wp-content/uploads/2024/03/elderly-people-playing-board-game.jpg
ORGANIZER;CN="Alyss Amster":MAILTO:alyss@dementiaspotlightfoundation.org
END:VEVENT
BEGIN:VEVENT
DTSTART;TZID=UTC:20291213T133000
DTEND;TZID=UTC:20291213T153000
DTSTAMP:20260419T223059
CREATED:20240715T201417Z
LAST-MODIFIED:20240715T201417Z
UID:10001510-1891863000-1891870200@dementiaspotlightfoundation.org
SUMMARY:Connection Café (Memory Cafe) - Alpharetta
DESCRIPTION:Join Us For Our Connection Café!\nPresented by Dementia Spotlight Foundation and Senior Service of North Fulton  \nWho: Those Living w/ Dementia & Their Care Partners \nWhen: Every Second & Fourth Thursday Of The Month \nTime: 1:30-3:30 PM \nWhere: Alpharetta | Crabapple Senior Center \n12624 Broadwell Rd\, Alpharetta\, GA 30004 \nFor More Info or to Sponsor A Cafe\, Contact Alyss Amster: 678-332-1711 or
URL:https://dementiaspotlightfoundation.org/event/connection-cafe-memory-cafe-alpharetta-3/2029-12-13/
LOCATION:Alpharetta | Crabapple Senior Center\, 12624 Broadwell Rd\, Alpharetta\, GA\, 30004\, United States
CATEGORIES:Connection Café
ATTACH;FMTTYPE=image/jpeg:https://dementiaspotlightfoundation.org/wp-content/uploads/2024/03/elderly-people-playing-board-game.jpg
ORGANIZER;CN="Alyss Amster":MAILTO:alyss@dementiaspotlightfoundation.org
END:VEVENT
BEGIN:VEVENT
DTSTART;TZID=UTC:20291227T133000
DTEND;TZID=UTC:20291227T153000
DTSTAMP:20260419T223059
CREATED:20240715T201417Z
LAST-MODIFIED:20240715T201417Z
UID:10001511-1893072600-1893079800@dementiaspotlightfoundation.org
SUMMARY:Connection Café (Memory Cafe) - Alpharetta
DESCRIPTION:Join Us For Our Connection Café!\nPresented by Dementia Spotlight Foundation and Senior Service of North Fulton  \nWho: Those Living w/ Dementia & Their Care Partners \nWhen: Every Second & Fourth Thursday Of The Month \nTime: 1:30-3:30 PM \nWhere: Alpharetta | Crabapple Senior Center \n12624 Broadwell Rd\, Alpharetta\, GA 30004 \nFor More Info or to Sponsor A Cafe\, Contact Alyss Amster: 678-332-1711 or
URL:https://dementiaspotlightfoundation.org/event/connection-cafe-memory-cafe-alpharetta-3/2029-12-27/
LOCATION:Alpharetta | Crabapple Senior Center\, 12624 Broadwell Rd\, Alpharetta\, GA\, 30004\, United States
CATEGORIES:Connection Café
ATTACH;FMTTYPE=image/jpeg:https://dementiaspotlightfoundation.org/wp-content/uploads/2024/03/elderly-people-playing-board-game.jpg
ORGANIZER;CN="Alyss Amster":MAILTO:alyss@dementiaspotlightfoundation.org
END:VEVENT
BEGIN:VEVENT
DTSTART;TZID=UTC:20300110T133000
DTEND;TZID=UTC:20300110T153000
DTSTAMP:20260419T223059
CREATED:20240715T201417Z
LAST-MODIFIED:20240715T201417Z
UID:10001512-1894282200-1894289400@dementiaspotlightfoundation.org
SUMMARY:Connection Café (Memory Cafe) - Alpharetta
DESCRIPTION:Join Us For Our Connection Café!\nPresented by Dementia Spotlight Foundation and Senior Service of North Fulton  \nWho: Those Living w/ Dementia & Their Care Partners \nWhen: Every Second & Fourth Thursday Of The Month \nTime: 1:30-3:30 PM \nWhere: Alpharetta | Crabapple Senior Center \n12624 Broadwell Rd\, Alpharetta\, GA 30004 \nFor More Info or to Sponsor A Cafe\, Contact Alyss Amster: 678-332-1711 or
URL:https://dementiaspotlightfoundation.org/event/connection-cafe-memory-cafe-alpharetta-3/2030-01-10/
LOCATION:Alpharetta | Crabapple Senior Center\, 12624 Broadwell Rd\, Alpharetta\, GA\, 30004\, United States
CATEGORIES:Connection Café
ATTACH;FMTTYPE=image/jpeg:https://dementiaspotlightfoundation.org/wp-content/uploads/2024/03/elderly-people-playing-board-game.jpg
ORGANIZER;CN="Alyss Amster":MAILTO:alyss@dementiaspotlightfoundation.org
END:VEVENT
BEGIN:VEVENT
DTSTART;TZID=UTC:20300124T133000
DTEND;TZID=UTC:20300124T153000
DTSTAMP:20260419T223059
CREATED:20240715T201417Z
LAST-MODIFIED:20240715T201417Z
UID:10001513-1895491800-1895499000@dementiaspotlightfoundation.org
SUMMARY:Connection Café (Memory Cafe) - Alpharetta
DESCRIPTION:Join Us For Our Connection Café!\nPresented by Dementia Spotlight Foundation and Senior Service of North Fulton  \nWho: Those Living w/ Dementia & Their Care Partners \nWhen: Every Second & Fourth Thursday Of The Month \nTime: 1:30-3:30 PM \nWhere: Alpharetta | Crabapple Senior Center \n12624 Broadwell Rd\, Alpharetta\, GA 30004 \nFor More Info or to Sponsor A Cafe\, Contact Alyss Amster: 678-332-1711 or
URL:https://dementiaspotlightfoundation.org/event/connection-cafe-memory-cafe-alpharetta-3/2030-01-24/
LOCATION:Alpharetta | Crabapple Senior Center\, 12624 Broadwell Rd\, Alpharetta\, GA\, 30004\, United States
CATEGORIES:Connection Café
ATTACH;FMTTYPE=image/jpeg:https://dementiaspotlightfoundation.org/wp-content/uploads/2024/03/elderly-people-playing-board-game.jpg
ORGANIZER;CN="Alyss Amster":MAILTO:alyss@dementiaspotlightfoundation.org
END:VEVENT
BEGIN:VEVENT
DTSTART;TZID=UTC:20300214T133000
DTEND;TZID=UTC:20300214T153000
DTSTAMP:20260419T223059
CREATED:20240715T201417Z
LAST-MODIFIED:20240715T201417Z
UID:10001514-1897306200-1897313400@dementiaspotlightfoundation.org
SUMMARY:Connection Café (Memory Cafe) - Alpharetta
DESCRIPTION:Join Us For Our Connection Café!\nPresented by Dementia Spotlight Foundation and Senior Service of North Fulton  \nWho: Those Living w/ Dementia & Their Care Partners \nWhen: Every Second & Fourth Thursday Of The Month \nTime: 1:30-3:30 PM \nWhere: Alpharetta | Crabapple Senior Center \n12624 Broadwell Rd\, Alpharetta\, GA 30004 \nFor More Info or to Sponsor A Cafe\, Contact Alyss Amster: 678-332-1711 or
URL:https://dementiaspotlightfoundation.org/event/connection-cafe-memory-cafe-alpharetta-3/2030-02-14/
LOCATION:Alpharetta | Crabapple Senior Center\, 12624 Broadwell Rd\, Alpharetta\, GA\, 30004\, United States
CATEGORIES:Connection Café
ATTACH;FMTTYPE=image/jpeg:https://dementiaspotlightfoundation.org/wp-content/uploads/2024/03/elderly-people-playing-board-game.jpg
ORGANIZER;CN="Alyss Amster":MAILTO:alyss@dementiaspotlightfoundation.org
END:VEVENT
BEGIN:VEVENT
DTSTART;TZID=UTC:20300228T133000
DTEND;TZID=UTC:20300228T153000
DTSTAMP:20260419T223059
CREATED:20240715T201417Z
LAST-MODIFIED:20240715T201417Z
UID:10001515-1898515800-1898523000@dementiaspotlightfoundation.org
SUMMARY:Connection Café (Memory Cafe) - Alpharetta
DESCRIPTION:Join Us For Our Connection Café!\nPresented by Dementia Spotlight Foundation and Senior Service of North Fulton  \nWho: Those Living w/ Dementia & Their Care Partners \nWhen: Every Second & Fourth Thursday Of The Month \nTime: 1:30-3:30 PM \nWhere: Alpharetta | Crabapple Senior Center \n12624 Broadwell Rd\, Alpharetta\, GA 30004 \nFor More Info or to Sponsor A Cafe\, Contact Alyss Amster: 678-332-1711 or
URL:https://dementiaspotlightfoundation.org/event/connection-cafe-memory-cafe-alpharetta-3/2030-02-28/
LOCATION:Alpharetta | Crabapple Senior Center\, 12624 Broadwell Rd\, Alpharetta\, GA\, 30004\, United States
CATEGORIES:Connection Café
ATTACH;FMTTYPE=image/jpeg:https://dementiaspotlightfoundation.org/wp-content/uploads/2024/03/elderly-people-playing-board-game.jpg
ORGANIZER;CN="Alyss Amster":MAILTO:alyss@dementiaspotlightfoundation.org
END:VEVENT
BEGIN:VEVENT
DTSTART;TZID=UTC:20300314T133000
DTEND;TZID=UTC:20300314T153000
DTSTAMP:20260419T223059
CREATED:20240715T201417Z
LAST-MODIFIED:20240715T201417Z
UID:10001516-1899725400-1899732600@dementiaspotlightfoundation.org
SUMMARY:Connection Café (Memory Cafe) - Alpharetta
DESCRIPTION:Join Us For Our Connection Café!\nPresented by Dementia Spotlight Foundation and Senior Service of North Fulton  \nWho: Those Living w/ Dementia & Their Care Partners \nWhen: Every Second & Fourth Thursday Of The Month \nTime: 1:30-3:30 PM \nWhere: Alpharetta | Crabapple Senior Center \n12624 Broadwell Rd\, Alpharetta\, GA 30004 \nFor More Info or to Sponsor A Cafe\, Contact Alyss Amster: 678-332-1711 or
URL:https://dementiaspotlightfoundation.org/event/connection-cafe-memory-cafe-alpharetta-3/2030-03-14/
LOCATION:Alpharetta | Crabapple Senior Center\, 12624 Broadwell Rd\, Alpharetta\, GA\, 30004\, United States
CATEGORIES:Connection Café
ATTACH;FMTTYPE=image/jpeg:https://dementiaspotlightfoundation.org/wp-content/uploads/2024/03/elderly-people-playing-board-game.jpg
ORGANIZER;CN="Alyss Amster":MAILTO:alyss@dementiaspotlightfoundation.org
END:VEVENT
BEGIN:VEVENT
DTSTART;TZID=UTC:20300328T133000
DTEND;TZID=UTC:20300328T153000
DTSTAMP:20260419T223059
CREATED:20240715T201417Z
LAST-MODIFIED:20240715T201417Z
UID:10001517-1900935000-1900942200@dementiaspotlightfoundation.org
SUMMARY:Connection Café (Memory Cafe) - Alpharetta
DESCRIPTION:Join Us For Our Connection Café!\nPresented by Dementia Spotlight Foundation and Senior Service of North Fulton  \nWho: Those Living w/ Dementia & Their Care Partners \nWhen: Every Second & Fourth Thursday Of The Month \nTime: 1:30-3:30 PM \nWhere: Alpharetta | Crabapple Senior Center \n12624 Broadwell Rd\, Alpharetta\, GA 30004 \nFor More Info or to Sponsor A Cafe\, Contact Alyss Amster: 678-332-1711 or
URL:https://dementiaspotlightfoundation.org/event/connection-cafe-memory-cafe-alpharetta-3/2030-03-28/
LOCATION:Alpharetta | Crabapple Senior Center\, 12624 Broadwell Rd\, Alpharetta\, GA\, 30004\, United States
CATEGORIES:Connection Café
ATTACH;FMTTYPE=image/jpeg:https://dementiaspotlightfoundation.org/wp-content/uploads/2024/03/elderly-people-playing-board-game.jpg
ORGANIZER;CN="Alyss Amster":MAILTO:alyss@dementiaspotlightfoundation.org
END:VEVENT
BEGIN:VEVENT
DTSTART;TZID=UTC:20300411T133000
DTEND;TZID=UTC:20300411T153000
DTSTAMP:20260419T223059
CREATED:20240715T201417Z
LAST-MODIFIED:20240715T201417Z
UID:10001518-1902144600-1902151800@dementiaspotlightfoundation.org
SUMMARY:Connection Café (Memory Cafe) - Alpharetta
DESCRIPTION:Join Us For Our Connection Café!\nPresented by Dementia Spotlight Foundation and Senior Service of North Fulton  \nWho: Those Living w/ Dementia & Their Care Partners \nWhen: Every Second & Fourth Thursday Of The Month \nTime: 1:30-3:30 PM \nWhere: Alpharetta | Crabapple Senior Center \n12624 Broadwell Rd\, Alpharetta\, GA 30004 \nFor More Info or to Sponsor A Cafe\, Contact Alyss Amster: 678-332-1711 or
URL:https://dementiaspotlightfoundation.org/event/connection-cafe-memory-cafe-alpharetta-3/2030-04-11/
LOCATION:Alpharetta | Crabapple Senior Center\, 12624 Broadwell Rd\, Alpharetta\, GA\, 30004\, United States
CATEGORIES:Connection Café
ATTACH;FMTTYPE=image/jpeg:https://dementiaspotlightfoundation.org/wp-content/uploads/2024/03/elderly-people-playing-board-game.jpg
ORGANIZER;CN="Alyss Amster":MAILTO:alyss@dementiaspotlightfoundation.org
END:VEVENT
BEGIN:VEVENT
DTSTART;TZID=UTC:20300425T133000
DTEND;TZID=UTC:20300425T153000
DTSTAMP:20260419T223059
CREATED:20240715T201417Z
LAST-MODIFIED:20240715T201417Z
UID:10001519-1903354200-1903361400@dementiaspotlightfoundation.org
SUMMARY:Connection Café (Memory Cafe) - Alpharetta
DESCRIPTION:Join Us For Our Connection Café!\nPresented by Dementia Spotlight Foundation and Senior Service of North Fulton  \nWho: Those Living w/ Dementia & Their Care Partners \nWhen: Every Second & Fourth Thursday Of The Month \nTime: 1:30-3:30 PM \nWhere: Alpharetta | Crabapple Senior Center \n12624 Broadwell Rd\, Alpharetta\, GA 30004 \nFor More Info or to Sponsor A Cafe\, Contact Alyss Amster: 678-332-1711 or
URL:https://dementiaspotlightfoundation.org/event/connection-cafe-memory-cafe-alpharetta-3/2030-04-25/
LOCATION:Alpharetta | Crabapple Senior Center\, 12624 Broadwell Rd\, Alpharetta\, GA\, 30004\, United States
CATEGORIES:Connection Café
ATTACH;FMTTYPE=image/jpeg:https://dementiaspotlightfoundation.org/wp-content/uploads/2024/03/elderly-people-playing-board-game.jpg
ORGANIZER;CN="Alyss Amster":MAILTO:alyss@dementiaspotlightfoundation.org
END:VEVENT
END:VCALENDAR