BEGIN:VCALENDAR
VERSION:2.0
PRODID:-//Dementia Spotlight Foundation - ECPv6.15.15//NONSGML v1.0//EN
CALSCALE:GREGORIAN
METHOD:PUBLISH
X-WR-CALNAME:Dementia Spotlight Foundation
X-ORIGINAL-URL:https://dementiaspotlightfoundation.org
X-WR-CALDESC:Events for Dementia Spotlight Foundation
REFRESH-INTERVAL;VALUE=DURATION:PT1H
X-Robots-Tag:noindex
X-PUBLISHED-TTL:PT1H
BEGIN:VTIMEZONE
TZID:UTC
BEGIN:STANDARD
TZOFFSETFROM:+0000
TZOFFSETTO:+0000
TZNAME:UTC
DTSTART:20220101T000000
END:STANDARD
END:VTIMEZONE
BEGIN:VEVENT
DTSTART;TZID=UTC:20231215T133000
DTEND;TZID=UTC:20231215T153000
DTSTAMP:20260420T050411
CREATED:20230601T155500Z
LAST-MODIFIED:20230612T135235Z
UID:10000016-1702647000-1702654200@dementiaspotlightfoundation.org
SUMMARY:Connection Café (Memory Cafe)
DESCRIPTION:Join Us For Our Connection Café!\nPresented by Dementia Spotlight Foundation and Senior Service of North Fulton  \nWho: Those Living w/ Dementia & Their Care Partners \nWhen: First & Third Friday Of The Month \nTime: 1:30-3:30 PM \nWhere: Roswell Senior Center \n1250 Warsaw Rd\, Roswell\, GA 30076 \nFor More Info or to Sponsor A Cafe\, Contact Alyss Amster: 678-332-1711 or alyss@dementiaspotlightfoundation.org
URL:https://dementiaspotlightfoundation.org/event/connection-cafe-memory-cafe/2023-12-15/
LOCATION:Roswell Senior Center\, 1250 Warsaw Rd\, Roswell\, GA\, 30076\, United States
CATEGORIES:Connection Café
ATTACH;FMTTYPE=image/png:https://dementiaspotlightfoundation.org/wp-content/uploads/2023/06/2.png
ORGANIZER;CN="Alyss Amster":MAILTO:alyss@dementiaspotlightfoundation.org
END:VEVENT
BEGIN:VEVENT
DTSTART;TZID=UTC:20231215T133000
DTEND;TZID=UTC:20231215T153000
DTSTAMP:20260420T050411
CREATED:20231115T221918Z
LAST-MODIFIED:20231115T221919Z
UID:10000345-1702647000-1702654200@dementiaspotlightfoundation.org
SUMMARY:Connection Cafe
DESCRIPTION:Hope you’re ready to jazz up your calendar because something awesome is coming your way! Our next Connection Cafe is just around the corner\, and we’re turning up the fun factor to a whole new level! \n🎷 Live Saxophone Music: 🎷\nPicture this – a cozy ambiance\, warm smiles all around\, and the soothing melodies of a live saxophone musician filling the air. Immerse yourself in the soothing tunes\, creating an atmosphere of relaxation and joy that is sure to touch your soul. It’s an experience you won’t want to miss! \n🍪 Delicious Holiday Treats: 🍪\nWhat’s a holiday gathering without some delectable treats? Join us for an array of mouthwatering holiday delights that will tantalize your taste buds and bring back cherished memories of festive seasons past. \n🌟 Building Connections: 🌟\nConnection Cafes are more than just events; they are opportunities to connect with others who understand and share your journey. It’s a chance to form new friendships\, share stories\, and strengthen existing bonds in a warm and supportive environment. \nClaim Your Spot:\nTo help us prepare\, please RSVP below by Thursday\, December 14th\, or to Alyss Amster at 678-332-1711 or alyss@dementiaspotlightfoundation.org.
URL:https://dementiaspotlightfoundation.org/event/connection-cafe-6/
LOCATION:Roswell Senior Center\, 1250 Warsaw Rd\, Roswell\, GA\, 30076\, United States
CATEGORIES:Connection Café
ATTACH;FMTTYPE=image/png:https://dementiaspotlightfoundation.org/wp-content/uploads/2023/11/Jazz-Cafe.png
ORGANIZER;CN="Alyss Amster":MAILTO:alyss@dementiaspotlightfoundation.org
END:VEVENT
END:VCALENDAR