BEGIN:VCALENDAR
VERSION:2.0
PRODID:-//Dementia Spotlight Foundation - ECPv6.15.15//NONSGML v1.0//EN
CALSCALE:GREGORIAN
METHOD:PUBLISH
X-WR-CALNAME:Dementia Spotlight Foundation
X-ORIGINAL-URL:https://dementiaspotlightfoundation.org
X-WR-CALDESC:Events for Dementia Spotlight Foundation
REFRESH-INTERVAL;VALUE=DURATION:PT1H
X-Robots-Tag:noindex
X-PUBLISHED-TTL:PT1H
BEGIN:VTIMEZONE
TZID:UTC
BEGIN:STANDARD
TZOFFSETFROM:+0000
TZOFFSETTO:+0000
TZNAME:UTC
DTSTART:20230101T000000
END:STANDARD
END:VTIMEZONE
BEGIN:VEVENT
DTSTART;TZID=UTC:20240303T080000
DTEND;TZID=UTC:20240303T170000
DTSTAMP:20260420T000156
CREATED:20240303T222408Z
LAST-MODIFIED:20240303T222408Z
UID:10000716-1709452800-1709485200@dementiaspotlightfoundation.org
SUMMARY:Connection Cafe: Alpharetta Senior Center
DESCRIPTION:Get ready to tap your toes and feel the rhythm as we bring the lively spirit of the New Orleans Jazz Festival to our upcoming Connection Cafe on April 25th!\n \nWe’re thrilled to invite you to join us for an unforgettable afternoon filled with music\, laughter\, and connections. \nDesigned with you and your loved ones in mind\, our Connection Cafe provides a warm and inclusive environment where you can socialize\, have fun\, and make new friends. Whether you’re living with dementia or supporting someone who is\, this event is tailored to offer an uplifting experience for all. \nSo mark your calendars and come immerse yourself in the soulful sounds of jazz while forging new connections and strengthening existing ones. It’s more than just an event; it’s a celebration of community\, love\, and the timeless allure of music. \nDon’t miss out on this opportunity to create cherished memories and share in the joy of music with us. We can’t wait to see you there! \nRSVP today to secure your spot! \nClaim Your Spot:\nTo help us prepare\, please RSVP below by Wednesday\, April 24th\, or to Alyss Amster at 678-332-1711 or alyss@dementiaspotlightfoundation.org.
URL:https://dementiaspotlightfoundation.org/event/connection-cafe-alpharetta-senior-center-4/
LOCATION:GA
CATEGORIES:Connection Café
ATTACH;FMTTYPE=image/jpeg:https://dementiaspotlightfoundation.org/wp-content/uploads/2024/03/black-jazz-performer-plays-the-saxophone-on-stage.jpg
END:VEVENT
END:VCALENDAR