BEGIN:VCALENDAR
VERSION:2.0
PRODID:-//Dementia Spotlight Foundation - ECPv6.15.15//NONSGML v1.0//EN
CALSCALE:GREGORIAN
METHOD:PUBLISH
X-WR-CALNAME:Dementia Spotlight Foundation
X-ORIGINAL-URL:https://dementiaspotlightfoundation.org
X-WR-CALDESC:Events for Dementia Spotlight Foundation
REFRESH-INTERVAL;VALUE=DURATION:PT1H
X-Robots-Tag:noindex
X-PUBLISHED-TTL:PT1H
BEGIN:VTIMEZONE
TZID:UTC
BEGIN:STANDARD
TZOFFSETFROM:+0000
TZOFFSETTO:+0000
TZNAME:UTC
DTSTART:20230101T000000
END:STANDARD
END:VTIMEZONE
BEGIN:VEVENT
DTSTART;TZID=UTC:20240503T133000
DTEND;TZID=UTC:20240503T153000
DTSTAMP:20260419T162157
CREATED:20240429T192501Z
LAST-MODIFIED:20240429T193739Z
UID:10000860-1714743000-1714750200@dementiaspotlightfoundation.org
SUMMARY:Connection Cafe (Roswell\, GA)
DESCRIPTION:Get ready to don your finest hats and join us for an unforgettable Kentucky Derby celebration at our upcoming May 3rd Connection Cafe!\n \nIt’s time to saddle up for an afternoon of fun\, laughter\, and camaraderie in a warm and supportive environment designed specifically for those living with dementia and their care partners. \nWhether you’re a seasoned equestrian enthusiast or simply looking for a delightful outing\, our Derby-themed event promises an afternoon filled with excitement\, new connections\, and cherished memories. \nSo mark your calendars and RSVP today to secure your spot at this must-attend event. Let’s come together for an afternoon of joy and celebration! \nWe can’t wait to see you there! \nClaim Your Spot:\nTo help us prepare\, please RSVP below by Thursday\, May 2nd\, or to Alyss Amster at 678-332-1711 or alyss@dementiaspotlightfoundation.org.
URL:https://dementiaspotlightfoundation.org/event/connection-cafe-roswell-ga/
LOCATION:Roswell Senior Center\, 1250 Warsaw Rd\, Roswell\, GA\, 30076\, United States
CATEGORIES:Connection Café
ATTACH;FMTTYPE=image/jpeg:https://dementiaspotlightfoundation.org/wp-content/uploads/2024/04/horse-race-training-competition-sport-hippodrome-speed-background-jockey.jpg
ORGANIZER;CN="Alyss Amster":MAILTO:alyss@dementiaspotlightfoundation.org
END:VEVENT
BEGIN:VEVENT
DTSTART;TZID=UTC:20240509T133000
DTEND;TZID=UTC:20240509T153000
DTSTAMP:20260419T162157
CREATED:20240429T194613Z
LAST-MODIFIED:20240429T194613Z
UID:10000733-1715261400-1715268600@dementiaspotlightfoundation.org
SUMMARY:Connection Café (Memory Cafe) - Alpharetta
DESCRIPTION:Get ready to don your fanciest hats and join us for an unforgettable afternoon at our upcoming May 9th Connection Cafe\, where we’ll be celebrating the Kentucky Derby in style!\n \nIt’s time to saddle up for an afternoon of fun\, laughter\, and camaraderie in a welcoming and supportive environment tailored for those living with dementia and their care partners. Whether you’re a seasoned racing enthusiast or just looking for a delightful outing\, our Derby-themed event promises an afternoon of joy\, connection\, and cherished memories. \nSo mark your calendars and RSVP today to secure your spot for this exciting event! Don’t miss out on the chance to make new friends\, strengthen existing bonds\, and experience the magic of the Derby together. \nWe can’t wait to see you there! \nClaim Your Spot:\nTo help us prepare\, please RSVP below by Wednesday\, May 8th\, or to Alyss Amster at 678-332-1711 or alyss@dementiaspotlightfoundation.org.
URL:https://dementiaspotlightfoundation.org/event/connection-cafe-memory-cafe-alpharetta-2/
LOCATION:Alpharetta | Crabapple Senior Center\, 12624 Broadwell Rd\, Alpharetta\, GA\, 30004\, United States
CATEGORIES:Connection Café
ATTACH;FMTTYPE=image/jpeg:https://dementiaspotlightfoundation.org/wp-content/uploads/2024/04/horse-race-final-rush-competition-sport-hippodrome-winner-speed-background.jpg
ORGANIZER;CN="Alyss Amster":MAILTO:alyss@dementiaspotlightfoundation.org
END:VEVENT
BEGIN:VEVENT
DTSTART;TZID=UTC:20240523T133000
DTEND;TZID=UTC:20240523T153000
DTSTAMP:20260419T162157
CREATED:20240321T170802Z
LAST-MODIFIED:20240321T170802Z
UID:10000734-1716471000-1716478200@dementiaspotlightfoundation.org
SUMMARY:Connection Café (Memory Cafe) - Alpharetta
DESCRIPTION:Join Us For Our Connection Café!\nPresented by Dementia Spotlight Foundation and Senior Service of North Fulton  \nWho: Those Living w/ Dementia & Their Care Partners \nWhen: Every Second & Fourth Thursday Of The Month \nTime: 1:30-3:30 PM \nWhere: Alpharetta | Crabapple Senior Center \n12624 Broadwell Rd\, Alpharetta\, GA 30004 \nFor More Info or to Sponsor A Cafe\, Contact Alyss Amster: 678-332-1711 or
URL:https://dementiaspotlightfoundation.org/event/connection-cafe-memory-cafe-alpharetta/2024-05-23/
LOCATION:Alpharetta | Crabapple Senior Center\, 12624 Broadwell Rd\, Alpharetta\, GA\, 30004\, United States
CATEGORIES:Connection Café
ATTACH;FMTTYPE=image/jpeg:https://dementiaspotlightfoundation.org/wp-content/uploads/2024/03/elderly-people-playing-board-game.jpg
ORGANIZER;CN="Alyss Amster":MAILTO:alyss@dementiaspotlightfoundation.org
END:VEVENT
END:VCALENDAR