BEGIN:VCALENDAR
VERSION:2.0
PRODID:-//Dementia Spotlight Foundation - ECPv6.15.15//NONSGML v1.0//EN
CALSCALE:GREGORIAN
METHOD:PUBLISH
X-WR-CALNAME:Dementia Spotlight Foundation
X-ORIGINAL-URL:https://dementiaspotlightfoundation.org
X-WR-CALDESC:Events for Dementia Spotlight Foundation
REFRESH-INTERVAL;VALUE=DURATION:PT1H
X-Robots-Tag:noindex
X-PUBLISHED-TTL:PT1H
BEGIN:VTIMEZONE
TZID:UTC
BEGIN:STANDARD
TZOFFSETFROM:+0000
TZOFFSETTO:+0000
TZNAME:UTC
DTSTART:20230101T000000
END:STANDARD
END:VTIMEZONE
BEGIN:VEVENT
DTSTART;TZID=UTC:20240220T080000
DTEND;TZID=UTC:20240220T170000
DTSTAMP:20260419T230455
CREATED:20240220T215043Z
LAST-MODIFIED:20240220T215043Z
UID:10000709-1708416000-1708448400@dementiaspotlightfoundation.org
SUMMARY:Understanding Dementia Care (Peachtree City)
DESCRIPTION:Let’s Talk Dementia Care: Understanding\, Connecting\, and Thriving!\n \nMark your calendars for a special event happening at the Peachtree City United Methodist Church on Wednesday\, April 24th\, 2024\, from 9:30 AM to 1:00 PM. \nJoin us for a deep dive into dementia care that’s all about understanding\, connection\, and practical support. No stuffy lectures here – we’re keeping it real and relatable while diving into some crucial topics. \nTopics Include:\n\nUnderstand the various stages of dementia and how they shape individuals’ lives.\nMaster effective communication strategies tailored to dementia caregivers.\nCultivate a positive environment that truly supports those living with dementia.\nTackle challenges head-on and discover strategies to manage dementia-related behaviors.\nDiscover the importance of self-care for caregivers and how to prevent burnout.\n\nReady to join the conversation? RSVP now online or by contacting Alyss Amster at Alyss@dementiaspotlightfoundation.org or give her a call at (678) 332-1711. Let’s come together\, learn\, laugh\, and support each other on this journey of dementia care.
URL:https://dementiaspotlightfoundation.org/event/understanding-dementia-care-peachtree-city/
LOCATION:Peachtree City United Methodist Church\, 225 Robinson Rd\, Peachtree City\, GA\, 30269\, United States
CATEGORIES:Education Event
ATTACH;FMTTYPE=image/jpeg:https://dementiaspotlightfoundation.org/wp-content/uploads/2024/02/group-attending-neighborhood-meeting-in-community-center.jpg
ORGANIZER;CN="Alyss Amster":MAILTO:alyss@dementiaspotlightfoundation.org
END:VEVENT
END:VCALENDAR