BEGIN:VCALENDAR
VERSION:2.0
PRODID:-//Dementia Spotlight Foundation - ECPv6.15.15//NONSGML v1.0//EN
CALSCALE:GREGORIAN
METHOD:PUBLISH
X-WR-CALNAME:Dementia Spotlight Foundation
X-ORIGINAL-URL:https://dementiaspotlightfoundation.org
X-WR-CALDESC:Events for Dementia Spotlight Foundation
REFRESH-INTERVAL;VALUE=DURATION:PT1H
X-Robots-Tag:noindex
X-PUBLISHED-TTL:PT1H
BEGIN:VTIMEZONE
TZID:UTC
BEGIN:STANDARD
TZOFFSETFROM:+0000
TZOFFSETTO:+0000
TZNAME:UTC
DTSTART:20230101T000000
END:STANDARD
END:VTIMEZONE
BEGIN:VEVENT
DTSTART;TZID=UTC:20240301T133000
DTEND;TZID=UTC:20240301T153000
DTSTAMP:20260419T212154
CREATED:20240209T031257Z
LAST-MODIFIED:20240209T031555Z
UID:10000024-1709299800-1709307000@dementiaspotlightfoundation.org
SUMMARY:Connection Café (Memory Cafe) - Roswell
DESCRIPTION:Join Us For Our Connection Café!\nPresented by Dementia Spotlight Foundation and Senior Service of North Fulton  \nWho: Those Living w/ Dementia & Their Care Partners \nWhen: First & Third Friday Of The Month \nTime: 1:30-3:30 PM \nWhere: Roswell Senior Center \n1250 Warsaw Rd\, Roswell\, GA 30076 \nFor More Info or to Sponsor A Cafe\, Contact Alyss Amster: 678-332-1711 or alyss@dementiaspotlightfoundation.org
URL:https://dementiaspotlightfoundation.org/event/connection-cafe-memory-cafe-3/2024-03-01/
LOCATION:Roswell Senior Center\, 1250 Warsaw Rd\, Roswell\, GA\, 30076\, United States
CATEGORIES:Connection Café
ATTACH;FMTTYPE=image/png:https://dementiaspotlightfoundation.org/wp-content/uploads/2023/06/2.png
ORGANIZER;CN="Alyss Amster":MAILTO:alyss@dementiaspotlightfoundation.org
END:VEVENT
BEGIN:VEVENT
DTSTART;TZID=UTC:20240301T133000
DTEND;TZID=UTC:20240301T153000
DTSTAMP:20260419T212154
CREATED:20240226T234100Z
LAST-MODIFIED:20240226T234100Z
UID:10000711-1709299800-1709307000@dementiaspotlightfoundation.org
SUMMARY:Connection Cafe: Roswell Senior Center
DESCRIPTION:Get ready to tap your toes and sing along because something exciting is coming to our Connection Cafe on March 1st!\n \nWe’re thrilled to announce that Gail Burnett from Senior Living Music will be joining us to provide a day filled with fun\, interactive musical entertainment. \nWhether you’re a music aficionado or just looking for a good time\, this event promises something for everyone. Get ready to sing along\, tap your feet\, and perhaps even bust a move or two as Gail leads us through an engaging musical journey that will leave you smiling from ear to ear. \nBut that’s not all! In addition to the fantastic entertainment\, Connection Cafe will also offer the perfect opportunity to socialize\, connect with friends old and new\, and enjoy some delicious refreshments in a warm and welcoming atmosphere. \nRSVP today to secure your spot! \nClaim Your Spot:\nTo help us prepare\, please RSVP below by Thursday\, February 29th\, or to Alyss Amster at 678-332-1711 or alyss@dementiaspotlightfoundation.org.
URL:https://dementiaspotlightfoundation.org/event/connection-cafe-roswell-senior-center/
LOCATION:Roswell Senior Center\, 1250 Warsaw Rd\, Roswell\, GA\, 30076\, United States
CATEGORIES:Connection Café
ATTACH;FMTTYPE=image/jpeg:https://dementiaspotlightfoundation.org/wp-content/uploads/2024/02/wooden-violin-on-chairs-horizontal-shot-live-music-on-special-occasion-.jpg
ORGANIZER;CN="Alyss Amster":MAILTO:alyss@dementiaspotlightfoundation.org
END:VEVENT
END:VCALENDAR