BEGIN:VCALENDAR
VERSION:2.0
PRODID:-//Dementia Spotlight Foundation - ECPv6.15.15//NONSGML v1.0//EN
CALSCALE:GREGORIAN
METHOD:PUBLISH
X-ORIGINAL-URL:https://dementiaspotlightfoundation.org
X-WR-CALDESC:Events for Dementia Spotlight Foundation
REFRESH-INTERVAL;VALUE=DURATION:PT1H
X-Robots-Tag:noindex
X-PUBLISHED-TTL:PT1H
BEGIN:VTIMEZONE
TZID:UTC
BEGIN:STANDARD
TZOFFSETFROM:+0000
TZOFFSETTO:+0000
TZNAME:UTC
DTSTART:20230101T000000
END:STANDARD
END:VTIMEZONE
BEGIN:VEVENT
DTSTART;TZID=UTC:20240313T090000
DTEND;TZID=UTC:20240313T130000
DTSTAMP:20260419T212528
CREATED:20240212T172027Z
LAST-MODIFIED:20240212T172027Z
UID:10000708-1710320400-1710334800@dementiaspotlightfoundation.org
SUMMARY:Semi-Annual Dementia Care Seminar
DESCRIPTION:Join us for an empowering and informative event hosted in partnership with  the United Way of Hernando County!\nOn Wednesday\, March 13\, 2024\, from 9:00 AM to 1:00 PM\, we invite you to Xavier Hall at St Frances Cabrini Church\, located at 5030 Mariner Blvd\, Spring Hill\, FL 34609\, for our Semi-Annual Dementia Care Seminar. \nThis FREE seminar is specifically designed for families and caregivers navigating the complexities of Alzheimer’s and dementia. Our lineup of dynamic guest speakers will provide invaluable insights\, drawing from their firsthand experiences to equip you with essential tools and knowledge for every aspect of this journey. \nWhat To Expect:\n\nGain insights into different types of dementia and how they shape individuals’ lives.\nMaster effective communication strategies tailored to dementia caregivers and care partners.\nCultivate a positive environment that truly supports those living with dementia.\nTackle challenges head-on and discover strategies to manage dementia-related behaviors.\nDiscover the importance of self-care for caregivers and how to prevent burnout.\n\nPlus\, on-site respite will be available at the event\, ensuring you can fully engage and absorb the invaluable knowledge being shared. \nRSVP TODAY!\nDon’t miss this unique opportunity to connect\, learn\, and grow. For any queries\, reach out to the United Way office at 352-688-2026 or drop us an email at Care@UnitedWayHernando.org.
URL:https://dementiaspotlightfoundation.org/event/semi-annual-dementia-care-seminar/
LOCATION:St Frances Cabrini Church in Xavier Hall\, 5030 Mariner Blvd\, Spring Hill\, Florida\, 34609
CATEGORIES:Education Event
ATTACH;FMTTYPE=image/jpeg:https://dementiaspotlightfoundation.org/wp-content/uploads/2024/02/group-of-casually-dressed-businessmen-and-businesswomen-applauding-presentation-at-conference.jpg
ORGANIZER;CN="Gary Joseph LeBlanc":MAILTO:gary@dementiaspotlightfoundation.org
END:VEVENT
END:VCALENDAR