BEGIN:VCALENDAR
VERSION:2.0
PRODID:-//Dementia Spotlight Foundation - ECPv6.15.15//NONSGML v1.0//EN
CALSCALE:GREGORIAN
METHOD:PUBLISH
X-ORIGINAL-URL:https://dementiaspotlightfoundation.org
X-WR-CALDESC:Events for Dementia Spotlight Foundation
REFRESH-INTERVAL;VALUE=DURATION:PT1H
X-Robots-Tag:noindex
X-PUBLISHED-TTL:PT1H
BEGIN:VTIMEZONE
TZID:UTC
BEGIN:STANDARD
TZOFFSETFROM:+0000
TZOFFSETTO:+0000
TZNAME:UTC
DTSTART:20230101T000000
END:STANDARD
END:VTIMEZONE
BEGIN:VEVENT
DTSTART;TZID=UTC:20240315T133000
DTEND;TZID=UTC:20240315T153000
DTSTAMP:20260419T212528
CREATED:20240209T031257Z
LAST-MODIFIED:20240209T031555Z
UID:10000592-1710509400-1710516600@dementiaspotlightfoundation.org
SUMMARY:Connection Café (Memory Cafe) - Roswell
DESCRIPTION:Join Us For Our Connection Café!\nPresented by Dementia Spotlight Foundation and Senior Service of North Fulton  \nWho: Those Living w/ Dementia & Their Care Partners \nWhen: First & Third Friday Of The Month \nTime: 1:30-3:30 PM \nWhere: Roswell Senior Center \n1250 Warsaw Rd\, Roswell\, GA 30076 \nFor More Info or to Sponsor A Cafe\, Contact Alyss Amster: 678-332-1711 or alyss@dementiaspotlightfoundation.org
URL:https://dementiaspotlightfoundation.org/event/connection-cafe-memory-cafe-3/2024-03-15/
LOCATION:Roswell Senior Center\, 1250 Warsaw Rd\, Roswell\, GA\, 30076\, United States
CATEGORIES:Connection Café
ATTACH;FMTTYPE=image/png:https://dementiaspotlightfoundation.org/wp-content/uploads/2023/06/2.png
ORGANIZER;CN="Alyss Amster":MAILTO:alyss@dementiaspotlightfoundation.org
END:VEVENT
BEGIN:VEVENT
DTSTART;TZID=UTC:20240315T133000
DTEND;TZID=UTC:20240315T153000
DTSTAMP:20260419T212528
CREATED:20240229T172444Z
LAST-MODIFIED:20240229T172444Z
UID:10000713-1710509400-1710516600@dementiaspotlightfoundation.org
SUMMARY:Connection Cafe: Roswell Senior Center
DESCRIPTION:Get ready to spark connections and ignite laughter at our upcoming Connection Cafe on March 15th!\n \nWe’re thrilled to invite you to a day filled with laughter\, warmth\, and meaningful connections. Our March 15th Connection Cafe will feature a delightful lineup of “Getting to Know You!” activities\, specially curated to spark conversations and foster new friendships. \nIt’s a chance for those living with dementia and their care partners to socialize\, have fun\, and immerse in a supportive environment where every moment is cherished. \nRSVP today to secure your spot! \nClaim Your Spot:\nTo help us prepare\, please RSVP below by Thursday\, March 14th\, or to Alyss Amster at 678-332-1711 or alyss@dementiaspotlightfoundation.org.
URL:https://dementiaspotlightfoundation.org/event/connection-cafe-roswell-senior-center-2/
LOCATION:Roswell Senior Center\, 1250 Warsaw Rd\, Roswell\, GA\, 30076\, United States
CATEGORIES:Connection Café
ATTACH;FMTTYPE=image/jpeg:https://dementiaspotlightfoundation.org/wp-content/uploads/2024/02/toast-tea-party-and-a-group-of-elderly-people-in-the-living-room-of-a-community-home-for-a-social-.jpg
ORGANIZER;CN="Alyss Amster":MAILTO:alyss@dementiaspotlightfoundation.org
END:VEVENT
END:VCALENDAR