BEGIN:VCALENDAR
VERSION:2.0
PRODID:-//Dementia Spotlight Foundation - ECPv6.15.15//NONSGML v1.0//EN
CALSCALE:GREGORIAN
METHOD:PUBLISH
X-ORIGINAL-URL:https://dementiaspotlightfoundation.org
X-WR-CALDESC:Events for Dementia Spotlight Foundation
REFRESH-INTERVAL;VALUE=DURATION:PT1H
X-Robots-Tag:noindex
X-PUBLISHED-TTL:PT1H
BEGIN:VTIMEZONE
TZID:UTC
BEGIN:STANDARD
TZOFFSETFROM:+0000
TZOFFSETTO:+0000
TZNAME:UTC
DTSTART:20230101T000000
END:STANDARD
END:VTIMEZONE
BEGIN:VEVENT
DTSTART;TZID=UTC:20240411T133000
DTEND;TZID=UTC:20240411T153000
DTSTAMP:20260419T193742
CREATED:20240303T212211Z
LAST-MODIFIED:20240303T212211Z
UID:10000715-1712842200-1712849400@dementiaspotlightfoundation.org
SUMMARY:Connection Cafe: Alpharetta Senior Center
DESCRIPTION:Are you ready to tee off into a fantastic afternoon of fun and connection?\n \nMark your calendars because on April 11th\, we’re hosting a Masters Tournament Celebration at our Connection Cafe\, and you’re invited to join in on the excitement! \nAt our Connection Cafe\, we create a welcoming space where those living with dementia and their care partners can come together to socialize\, laugh\, and make new memories. This upcoming event is tailor-made for golf enthusiasts and anyone looking to enjoy a delightful afternoon surrounded by friends\, old and new. \nHere’s what you can expect: \n\nEngaging activities inspired by the iconic Masters Tournament\nOpportunities to mingle\, share stories\, and strengthen bonds\nA supportive environment where everyone is welcomed and celebrated\n\nSo\, dust off your golf attire\, grab your favorite putter\, and get ready for a hole-in-one experience! Whether you’re a seasoned pro or new to the game\, there’s something for everyone at our Connection Cafe. \nDon’t miss out on this chance to swing into spring with us! RSVP today to secure your spot and join us for a day filled with laughter\, camaraderie\, and plenty of smiles. \nWe can’t wait to see you on April 11th for a Masters Tournament celebration like no other! \nClaim Your Spot:\nTo help us prepare\, please RSVP below by Wednesday\, April 9th\, or to Alyss Amster at 678-332-1711 or alyss@dementiaspotlightfoundation.org.
URL:https://dementiaspotlightfoundation.org/event/connection-cafe-alpharetta-senior-center-3/
LOCATION:Alpharetta | Crabapple Senior Center\, 12624 Broadwell Rd\, Alpharetta\, GA\, 30004\, United States
CATEGORIES:Connection Café
ATTACH;FMTTYPE=image/jpeg:https://dementiaspotlightfoundation.org/wp-content/uploads/2024/03/elderly-people-playing-mini-golf-at-the-backyard.jpg
ORGANIZER;CN="Alyss Amster":MAILTO:alyss@dementiaspotlightfoundation.org
END:VEVENT
BEGIN:VEVENT
DTSTART;TZID=UTC:20240411T133000
DTEND;TZID=UTC:20240411T153000
DTSTAMP:20260419T193742
CREATED:20240321T170802Z
LAST-MODIFIED:20240321T170802Z
UID:10000731-1712842200-1712849400@dementiaspotlightfoundation.org
SUMMARY:Connection Café (Memory Cafe) - Alpharetta
DESCRIPTION:Join Us For Our Connection Café!\nPresented by Dementia Spotlight Foundation and Senior Service of North Fulton  \nWho: Those Living w/ Dementia & Their Care Partners \nWhen: Every Second & Fourth Thursday Of The Month \nTime: 1:30-3:30 PM \nWhere: Alpharetta | Crabapple Senior Center \n12624 Broadwell Rd\, Alpharetta\, GA 30004 \nFor More Info or to Sponsor A Cafe\, Contact Alyss Amster: 678-332-1711 or
URL:https://dementiaspotlightfoundation.org/event/connection-cafe-memory-cafe-alpharetta/2024-04-11/
LOCATION:Alpharetta | Crabapple Senior Center\, 12624 Broadwell Rd\, Alpharetta\, GA\, 30004\, United States
CATEGORIES:Connection Café
ATTACH;FMTTYPE=image/jpeg:https://dementiaspotlightfoundation.org/wp-content/uploads/2024/03/elderly-people-playing-board-game.jpg
ORGANIZER;CN="Alyss Amster":MAILTO:alyss@dementiaspotlightfoundation.org
END:VEVENT
END:VCALENDAR