BEGIN:VCALENDAR
VERSION:2.0
PRODID:-//Dementia Spotlight Foundation - ECPv6.15.15//NONSGML v1.0//EN
CALSCALE:GREGORIAN
METHOD:PUBLISH
X-ORIGINAL-URL:https://dementiaspotlightfoundation.org
X-WR-CALDESC:Events for Dementia Spotlight Foundation
REFRESH-INTERVAL;VALUE=DURATION:PT1H
X-Robots-Tag:noindex
X-PUBLISHED-TTL:PT1H
BEGIN:VTIMEZONE
TZID:UTC
BEGIN:STANDARD
TZOFFSETFROM:+0000
TZOFFSETTO:+0000
TZNAME:UTC
DTSTART:20230101T000000
END:STANDARD
END:VTIMEZONE
BEGIN:VEVENT
DTSTART;TZID=UTC:20240424T093000
DTEND;TZID=UTC:20240424T130000
DTSTAMP:20260419T193629
CREATED:20240320T223421Z
LAST-MODIFIED:20240320T223421Z
UID:10000719-1713951000-1713963600@dementiaspotlightfoundation.org
SUMMARY:Understanding Dementia Care (Peachtree City)
DESCRIPTION:Are you a care partner\, healthcare professional\, or just curious about how to navigate dementia care with confidence and compassion?\n \nJoin us for an enlightening event that promises to equip you with invaluable insights and practical strategies to enhance your caregiving journey. \nUnderstanding Dementia Care Event \nDate: Wednesday\, April 24th\, 2024 \nTime: 9:30 AM – 1:00 PM \nLocation: Peachtree City United Methodist Church \n225 Robinson Rd Peachtree City\, GA 30269 \nThis event is designed to empower caregivers with essential knowledge and tools to provide exceptional care for individuals living with dementia. \nWhat To Expect: \nDive Deep into Dementia: Gain insights into the various types of dementia and how they impact individuals’ lives\, enabling you to tailor your care approach effectively. \nMasterful Communication: Learn communication techniques specifically tailored to fostering deeper connections and understanding. \nCreating Supportive Environments: Discover how to cultivate a nurturing and positive atmosphere that truly supports those living with dementia\, enhancing their quality of life. \nManaging Dementia-Related Behaviors: Discover strategies to better manage dementia-related behaviors. \nSelf-Care is Key: Understand the vital importance of personal well-being for caregivers and learn practical ways to prevent burnout\, ensuring you can continue to provide the best care possible. \nDon’t miss this opportunity to enrich your caregiving journey. RSVP Today! \nClick here to reserve your spot\, or contact Alyss Amster at Alyss@dementiaspotlightfoundation.org or call (678) 332-1711. Spaces are limited\, so secure your place now! \nEmpower yourself with knowledge\, compassion\, and support at the Understanding Dementia Care Event. We look forward to seeing you there!
URL:https://dementiaspotlightfoundation.org/event/understanding-dementia-care-peachtree-city-2/
LOCATION:Peachtree City United Methodist Church\, 225 Robinson Rd\, Peachtree City\, GA\, 30269\, United States
CATEGORIES:Education Event
ATTACH;FMTTYPE=image/jpeg:https://dementiaspotlightfoundation.org/wp-content/uploads/2024/03/adult-daughter-talking-to-her-mother-with-alzheimer-s-disease-in-her-room-at-retirement-home.jpg
ORGANIZER;CN="Alyss Amster":MAILTO:alyss@dementiaspotlightfoundation.org
END:VEVENT
END:VCALENDAR