BEGIN:VCALENDAR
VERSION:2.0
PRODID:-//Dementia Spotlight Foundation - ECPv6.15.15//NONSGML v1.0//EN
CALSCALE:GREGORIAN
METHOD:PUBLISH
X-ORIGINAL-URL:https://dementiaspotlightfoundation.org
X-WR-CALDESC:Events for Dementia Spotlight Foundation
REFRESH-INTERVAL;VALUE=DURATION:PT1H
X-Robots-Tag:noindex
X-PUBLISHED-TTL:PT1H
BEGIN:VTIMEZONE
TZID:UTC
BEGIN:STANDARD
TZOFFSETFROM:+0000
TZOFFSETTO:+0000
TZNAME:UTC
DTSTART:20230101T000000
END:STANDARD
END:VTIMEZONE
BEGIN:VEVENT
DTSTART;TZID=UTC:20240627T080000
DTEND;TZID=UTC:20240627T170000
DTSTAMP:20260419T164951
CREATED:20240627T142143Z
LAST-MODIFIED:20240627T142143Z
UID:10000870-1719475200-1719507600@dementiaspotlightfoundation.org
SUMMARY:Hernando Sheriff'e Office | Dementia Awareness (Deputies Only)
DESCRIPTION:In our First Responders Training\, we cover:\n\nThe basics of dementia\nHow dementia and memory loss can affect behavior and communication\nStrategies to effectively communicate with people living with dementia during an emergency\nPractical scenarios to help First Responders understand the unique needs of people with dementia\n\nWant to sponsor a Dementia Training or organize training for your staff or community? Contact Gary Joseph LeBlanc at (352) 345-6270 or gary@dementiaspotlightfoundation.org
URL:https://dementiaspotlightfoundation.org/event/hernando-sheriffe-office-dementia-awareness-deputies-only/
LOCATION:GA
ATTACH;FMTTYPE=image/jpeg:https://dementiaspotlightfoundation.org/wp-content/uploads/2024/06/happy-police-team-and-arms-crossed-in-confidence-for-city-protection-law-enforcement-or-crime-po.jpg
END:VEVENT
END:VCALENDAR