BEGIN:VCALENDAR
VERSION:2.0
PRODID:-//Dementia Spotlight Foundation - ECPv6.15.15//NONSGML v1.0//EN
CALSCALE:GREGORIAN
METHOD:PUBLISH
X-ORIGINAL-URL:https://dementiaspotlightfoundation.org
X-WR-CALDESC:Events for Dementia Spotlight Foundation
REFRESH-INTERVAL;VALUE=DURATION:PT1H
X-Robots-Tag:noindex
X-PUBLISHED-TTL:PT1H
BEGIN:VTIMEZONE
TZID:UTC
BEGIN:STANDARD
TZOFFSETFROM:+0000
TZOFFSETTO:+0000
TZNAME:UTC
DTSTART:20230101T000000
END:STANDARD
END:VTIMEZONE
BEGIN:VEVENT
DTSTART;TZID=UTC:20240405T133000
DTEND;TZID=UTC:20240405T153000
DTSTAMP:20260420T004346
CREATED:20240318T185903Z
LAST-MODIFIED:20240318T185903Z
UID:10000717-1712323800-1712331000@dementiaspotlightfoundation.org
SUMMARY:Connection Cafe: Roswell Senior Center
DESCRIPTION:Get ready to hit the road down memory lane!\n \nOn April 5th\, we’re hosting a special celebration at our Connection Cafe in honor of National Read a Road Map Day\, and you’re invited to join us for a nostalgic adventure! \nRemember the days before GPS\, when unfolding a map was as much a part of the journey as the destination itself? Let’s relive those moments together with a throwback to the “good ole days” of road tripping. While we won’t be setting off on a literal journey\, we’ll be diving into the past with rounds of “Road Map” Bingo\, where every square holds a cherished memory waiting to be uncovered. \nOur Connection Cafes aren’t just about fun and games—they’re about fostering connections\, creating new friendships\, and strengthening existing bonds. Whether you’re living with dementia or supporting a loved one who is\, our welcoming environment provides the perfect opportunity to socialize\, laugh\, and reminisce in a supportive community. \nSo mark your calendars for April 5th and join us for a day filled with laughter\, camaraderie\, and a shared love of exploration! \nRSVP today to secure your spot! \nClaim Your Spot:\nTo help us prepare\, please RSVP below by Thursday\, April 4th\, or to Alyss Amster at 678-332-1711 or alyss@dementiaspotlightfoundation.org.
URL:https://dementiaspotlightfoundation.org/event/connection-cafe-roswell-senior-center-3/
LOCATION:Roswell Senior Center\, 1250 Warsaw Rd\, Roswell\, GA\, 30076\, United States
CATEGORIES:Connection Café
ATTACH;FMTTYPE=image/jpeg:https://dementiaspotlightfoundation.org/wp-content/uploads/2024/03/senior-multiracial-couple-having-fun-with-convertible-car-during-road-trip-vacation.jpg
ORGANIZER;CN="Alyss Amster":MAILTO:alyss@dementiaspotlightfoundation.org
END:VEVENT
END:VCALENDAR